BEGIN:VCALENDAR
VERSION:2.0
PRODID:-//jEvents 2.0 for Joomla//EN
CALSCALE:GREGORIAN
METHOD:PUBLISH
BEGIN:VTIMEZONE
TZID:Europe/Berlin
BEGIN:STANDARD
DTSTART:20311026T020000
RDATE:20320328T030000
TZOFFSETFROM:+0200
TZOFFSETTO:+0100
TZNAME:Europe/Berlin CET
END:STANDARD
BEGIN:DAYLIGHT
DTSTART:20310501T000000
RDATE:20311026T020000
TZOFFSETFROM:+0100
TZOFFSETTO:+0200
TZNAME:Europe/Berlin CEST
END:DAYLIGHT
END:VTIMEZONE
BEGIN:VEVENT
UID:3b91a65d307af846652600049d5153ae
CATEGORIES:Brandenburg
CREATED:20211228T103827
SUMMARY:Barbe
DESCRIPTION:<p><span style="font-size: 14pt;"><a title="Barbe" href="http://de.wikipedi
 a.org/wiki/Barbe" target="_blank" rel="alternate noopener">Alles zur Barbe 
 findet ihr hier.</a></span></p>
DTSTAMP:20260420T023235
DTSTART;TZID=Europe/Berlin;VALUE=DATE:20320501
DTEND;TZID=Europe/Berlin;VALUE=DATE:20320801
SEQUENCE:0
TRANSP:OPAQUE
END:VEVENT
END:VCALENDAR