BEGIN:VCALENDAR
VERSION:2.0
PRODID:-//jEvents 2.0 for Joomla//EN
CALSCALE:GREGORIAN
METHOD:PUBLISH
BEGIN:VTIMEZONE
TZID:Europe/Berlin
END:VTIMEZONE
BEGIN:VEVENT
UID:3b91a65d307af846652600049d5153ae
CATEGORIES:Brandenburg
CREATED:20211228T103827
SUMMARY:Barbe
DESCRIPTION:Alles zur Barbe findet ihr hier. (http://de.wikipedia.org/wiki/Barbe)\n
X-ALT-DESC;FMTTYPE=text/html:<p><span style="font-size: 14pt;"><a title="Barbe" href="http://de.wikipedi
 a.org/wiki/Barbe" target="_blank" rel="alternate noopener">Alles zur Barbe 
 findet ihr hier.</a></span></p>
DTSTAMP:20260420T052827
DTSTART;TZID=Europe/Berlin;VALUE=DATE:20340501
DTEND;TZID=Europe/Berlin;VALUE=DATE:20340801
SEQUENCE:0
TRANSP:OPAQUE
END:VEVENT
END:VCALENDAR