BEGIN:VCALENDAR
VERSION:2.0
PRODID:-//jEvents 2.0 for Joomla//EN
CALSCALE:GREGORIAN
METHOD:PUBLISH
BEGIN:VTIMEZONE
TZID:Europe/Berlin
BEGIN:STANDARD
DTSTART:20311026T020000
RDATE:20320328T030000
TZOFFSETFROM:+0200
TZOFFSETTO:+0100
TZNAME:Europe/Berlin CET
END:STANDARD
BEGIN:DAYLIGHT
DTSTART:20311001T000000
RDATE:20311026T020000
TZOFFSETFROM:+0100
TZOFFSETTO:+0200
TZNAME:Europe/Berlin CEST
END:DAYLIGHT
END:VTIMEZONE
BEGIN:VEVENT
UID:7a0c82b8f1dbcc0dd9dae05afd6350ca
CATEGORIES:Brandenburg
CREATED:20211228T104513
SUMMARY:Große Maräne in stehenden Gewässer nach Besatz
DESCRIPTION:Alles zur Großen Maräne findet ihr hier. (http://de.wikipedia.org/wiki/Lava
 ret)\n
X-ALT-DESC;FMTTYPE=text/html:<p><a href="http://de.wikipedia.org/wiki/Lavaret" target="_blank" rel="noop
 ener"><span style="font-size: 14pt;">Alles zur Großen Maräne findet ihr hie
 r.</span></a></p>
DTSTAMP:20260420T041546
DTSTART;TZID=Europe/Berlin;VALUE=DATE:20321001
DTEND;TZID=Europe/Berlin;VALUE=DATE:20330101
SEQUENCE:0
TRANSP:OPAQUE
END:VEVENT
END:VCALENDAR