BEGIN:VCALENDAR
VERSION:2.0
PRODID:-//jEvents 2.0 for Joomla//EN
CALSCALE:GREGORIAN
METHOD:PUBLISH
BEGIN:VTIMEZONE
TZID:Europe/Berlin
END:VTIMEZONE
BEGIN:VEVENT
UID:4e03dc84116e2c2efa43ca37ea17221f
CATEGORIES:Brandenburg
CREATED:20211228T094204
SUMMARY:Äsche
DESCRIPTION:<p><a href="http://de.wikipedia.org/wiki/Europ%C3%A4ische_%C3%84sche" targe
 t="_blank" rel="noopener"><span style="font-size: 14pt;">Alles zur Äsche fi
 ndet ihr hier.</span></a></p>
DTSTAMP:20260420T064136
DTSTART;TZID=Europe/Berlin;VALUE=DATE:20331228
DTEND;TZID=Europe/Berlin;VALUE=DATE:20340601
SEQUENCE:0
TRANSP:OPAQUE
END:VEVENT
END:VCALENDAR