BEGIN:VCALENDAR
VERSION:2.0
PRODID:-//jEvents 2.0 for Joomla//EN
CALSCALE:GREGORIAN
METHOD:PUBLISH
BEGIN:VTIMEZONE
TZID:Europe/Berlin
END:VTIMEZONE
BEGIN:VEVENT
UID:cf56aa316508c6fe33f0fb4e2f8c83c1
CATEGORIES:Brandenburg
CREATED:20240201T213705
SUMMARY:Hecht
DESCRIPTION:Alles zum Hecht findet ihr hier. (http://de.wikipedia.org/wiki/Hecht)\n \n
X-ALT-DESC;FMTTYPE=text/html:<p><a href="http://de.wikipedia.org/wiki/Hecht" target="_blank" rel="noopen
 er"><span style="font-size: 14pt;">Alles zum Hecht findet ihr hier.</span><
 /a></p><p>&nbsp;</p>
DTSTAMP:20260420T070408
DTSTART;TZID=Europe/Berlin;VALUE=DATE:20330201
DTEND;TZID=Europe/Berlin;VALUE=DATE:20330401
SEQUENCE:0
TRANSP:OPAQUE
END:VEVENT
END:VCALENDAR