BEGIN:VCALENDAR
VERSION:2.0
PRODID:-//jEvents 2.0 for Joomla//EN
CALSCALE:GREGORIAN
METHOD:PUBLISH
BEGIN:VTIMEZONE
TZID:Europe/Berlin
BEGIN:STANDARD
DTSTART:20281029T020000
RDATE:20290325T030000
TZOFFSETFROM:+0200
TZOFFSETTO:+0100
TZNAME:Europe/Berlin CET
END:STANDARD
BEGIN:STANDARD
DTSTART:20291028T020000
RDATE:20300331T030000
TZOFFSETFROM:+0200
TZOFFSETTO:+0100
TZNAME:Europe/Berlin CET
END:STANDARD
BEGIN:STANDARD
DTSTART:20301027T020000
RDATE:20310330T030000
TZOFFSETFROM:+0200
TZOFFSETTO:+0100
TZNAME:Europe/Berlin CET
END:STANDARD
BEGIN:STANDARD
DTSTART:20311026T020000
RDATE:20320328T030000
TZOFFSETFROM:+0200
TZOFFSETTO:+0100
TZNAME:Europe/Berlin CET
END:STANDARD
BEGIN:DAYLIGHT
DTSTART:20281015T000000
RDATE:20281029T020000
TZOFFSETFROM:+0100
TZOFFSETTO:+0200
TZNAME:Europe/Berlin CEST
END:DAYLIGHT
BEGIN:DAYLIGHT
DTSTART:20290325T030000
RDATE:20291028T020000
TZOFFSETFROM:+0100
TZOFFSETTO:+0200
TZNAME:Europe/Berlin CEST
END:DAYLIGHT
BEGIN:DAYLIGHT
DTSTART:20300331T030000
RDATE:20301027T020000
TZOFFSETFROM:+0100
TZOFFSETTO:+0200
TZNAME:Europe/Berlin CEST
END:DAYLIGHT
BEGIN:DAYLIGHT
DTSTART:20310330T030000
RDATE:20311026T020000
TZOFFSETFROM:+0100
TZOFFSETTO:+0200
TZNAME:Europe/Berlin CEST
END:DAYLIGHT
END:VTIMEZONE
BEGIN:VEVENT
UID:b0432f3983bb2886d81cae1779e30172
CATEGORIES:Brandenburg
CREATED:20211228T095158
SUMMARY:Regenbogenforelle
DESCRIPTION:Alles zur Regenbogenforelle findet ihr hier. (http://de.wikipedia.org/wiki/
 Regenbogenforelle)\n
X-ALT-DESC;FMTTYPE=text/html:<p><span style="font-size: 14pt;"><a title="Regenbogenforelle" href="http:/
 /de.wikipedia.org/wiki/Regenbogenforelle" target="_blank" rel="alternate no
 opener">Alles zur Regenbogenforelle findet ihr hier.</a></span></p>
DTSTAMP:20260419T231249
DTSTART;TZID=Europe/Berlin;VALUE=DATE:20291016
DTEND;TZID=Europe/Berlin;VALUE=DATE:20300416
SEQUENCE:0
TRANSP:OPAQUE
END:VEVENT
END:VCALENDAR