BEGIN:VCALENDAR
VERSION:2.0
PRODID:-//jEvents 2.0 for Joomla//EN
CALSCALE:GREGORIAN
METHOD:PUBLISH
BEGIN:VTIMEZONE
TZID:Europe/Berlin
END:VTIMEZONE
BEGIN:VEVENT
UID:b0432f3983bb2886d81cae1779e30172
CATEGORIES:Brandenburg
CREATED:20211228T095158
SUMMARY:Regenbogenforelle
DESCRIPTION:<p><span style="font-size: 14pt;"><a title="Regenbogenforelle" href="http:/
 /de.wikipedia.org/wiki/Regenbogenforelle" target="_blank" rel="alternate no
 opener">Alles zur Regenbogenforelle findet ihr hier.</a></span></p>
DTSTAMP:20260420T064142
DTSTART;TZID=Europe/Berlin;VALUE=DATE:20341016
DTEND;TZID=Europe/Berlin;VALUE=DATE:20350416
SEQUENCE:0
TRANSP:OPAQUE
END:VEVENT
END:VCALENDAR