BEGIN:VCALENDAR
VERSION:2.0
PRODID:-//jEvents 2.0 for Joomla//EN
CALSCALE:GREGORIAN
METHOD:PUBLISH
BEGIN:VTIMEZONE
TZID:Europe/Berlin
END:VTIMEZONE
BEGIN:VEVENT
UID:55ea8ca2e308e8506fb0550ab2a18f61
CATEGORIES:Brandenburg
CREATED:20211228T103342
SUMMARY:Rapfen
DESCRIPTION:Alles zum Rapfen findet ihr hier. (http://de.wikipedia.org/wiki/Rapfen)\n
X-ALT-DESC;FMTTYPE=text/html:<p><span style="font-size: 14pt;"><a title="Rapfen" href="http://de.wikiped
 ia.org/wiki/Rapfen" target="_blank" rel="alternate noopener">Alles zum Rapf
 en findet ihr hier.</a></span></p>
DTSTAMP:20260420T080549
DTSTART;TZID=Europe/Berlin;VALUE=DATE:20360401
DTEND;TZID=Europe/Berlin;VALUE=DATE:20360701
SEQUENCE:0
TRANSP:OPAQUE
END:VEVENT
END:VCALENDAR